BEGIN:VCALENDAR
METHOD:PUBLISH
PRODID:-//github.com/rianjs/ical.net//NONSGML ical.net 4.0//EN
VERSION:2.0
BEGIN:VEVENT
CLASS:PUBLIC
DTEND:20230228T090000
DTSTAMP:20260420T091234Z
DTSTART:20230228T083000
LOCATION:N/A
ORGANIZER:
SEQUENCE:0
SUMMARY:Opening of the Session
UID:dd8a8802-8bdf-4b84-9a35-d676ff8a4743
BEGIN:VALARM
ACTION:DISPLAY
DESCRIPTION:REMINDER : Opening of the Session
TRIGGER:-PT15M
END:VALARM
END:VEVENT
BEGIN:VEVENT
CLASS:PUBLIC
DTEND:20230228T103000
DTSTAMP:20260420T091234Z
DTSTART:20230228T090000
LOCATION:N/A
ORGANIZER:
SEQUENCE:0
SUMMARY:Opening of the Session
UID:bfc26533-0e90-4160-b7da-342ae1595aa4
BEGIN:VALARM
ACTION:DISPLAY
DESCRIPTION:REMINDER : Opening of the Session
TRIGGER:-PT15M
END:VALARM
END:VEVENT
BEGIN:VEVENT
CLASS:PUBLIC
DTEND:20230302T103000
DTSTAMP:20260420T091234Z
DTSTART:20230302T090000
LOCATION:N/A
ORGANIZER:
SEQUENCE:0
SUMMARY:Plenary round-table panel on leveraging science\, technology\, inn
 ovation and digital transformation for accelerated recovery and implement
 ation of the 2030 Agenda for Sustainable Development and Agenda 2063: The
  Africa We Want\, of the African Union
UID:0e1cd385-455b-4f89-9adb-cbeb4e061adc
BEGIN:VALARM
ACTION:DISPLAY
DESCRIPTION:REMINDER : Plenary round-table panel on leveraging science\, t
 echnology\, innovation and digital transformation for accelerated recover
 y and implementation of the 2030 Agenda for Sustainable Development and A
 genda 2063: The Africa We Want\, of the African Union
TRIGGER:-PT15M
END:VALARM
END:VEVENT
BEGIN:VEVENT
CLASS:PUBLIC
DTEND:20230301T103000
DTSTAMP:20260420T091234Z
DTSTART:20230301T090000
LOCATION:N/A
ORGANIZER:
SEQUENCE:0
SUMMARY:Plenary round-table panel on rethinking data availability and data
  systems in Africa to address multiple shocks and accelerate implementati
 on of the 2030 Agenda for Sustainable Development and Agenda 2063: The Af
 rica We Want\, of the African Union
UID:3cd69548-9140-4cfa-a1b4-a54f910ad57e
BEGIN:VALARM
ACTION:DISPLAY
DESCRIPTION:REMINDER : Plenary round-table panel on rethinking data availa
 bility and data systems in Africa to address multiple shocks and accelera
 te implementation of the 2030 Agenda for Sustainable Development and Agen
 da 2063: The Africa We Want\, of the African Union
TRIGGER:-PT15M
END:VALARM
END:VEVENT
BEGIN:VEVENT
CLASS:PUBLIC
DTEND:20230301T110000
DTSTAMP:20260420T091234Z
DTSTART:20230301T103000
LOCATION:N/A
ORGANIZER:
SEQUENCE:0
SUMMARY:Plenary round-table panel on rethinking data availability and data
  systems in Africa to address multiple shocks and accelerate implementati
 on of the 2030 Agenda for Sustainable Development and Agenda 2063: The Af
 rica We Want\, of the African Union
UID:7a2fd757-2be6-4d21-9aa5-112595b3095d
BEGIN:VALARM
ACTION:DISPLAY
DESCRIPTION:REMINDER : Plenary round-table panel on rethinking data availa
 bility and data systems in Africa to address multiple shocks and accelera
 te implementation of the 2030 Agenda for Sustainable Development and Agen
 da 2063: The Africa We Want\, of the African Union
TRIGGER:-PT15M
END:VALARM
END:VEVENT
BEGIN:VEVENT
CLASS:PUBLIC
DTEND:20230302T110000
DTSTAMP:20260420T091234Z
DTSTART:20230302T103000
LOCATION:N/A
ORGANIZER:
SEQUENCE:0
SUMMARY:Plenary round-table panel on leveraging science\, technology\, inn
 ovation and digital transformation for accelerated recovery and implement
 ation of the 2030 Agenda for Sustainable Development and Agenda 2063: The
  Africa We Want\, of the African Union
UID:f59e96d1-e3f0-45d2-9256-c0811060d05a
BEGIN:VALARM
ACTION:DISPLAY
DESCRIPTION:REMINDER : Plenary round-table panel on leveraging science\, t
 echnology\, innovation and digital transformation for accelerated recover
 y and implementation of the 2030 Agenda for Sustainable Development and A
 genda 2063: The Africa We Want\, of the African Union
TRIGGER:-PT15M
END:VALARM
END:VEVENT
BEGIN:VEVENT
CLASS:PUBLIC
DTEND:20230228T110000
DTSTAMP:20260420T091234Z
DTSTART:20230228T103000
LOCATION:N/A
ORGANIZER:
SEQUENCE:0
SUMMARY:Opening of the Session
UID:c8881537-f182-41de-886f-855ae84d2d80
BEGIN:VALARM
ACTION:DISPLAY
DESCRIPTION:REMINDER : Opening of the Session
TRIGGER:-PT15M
END:VALARM
END:VEVENT
BEGIN:VEVENT
CLASS:PUBLIC
DTEND:20230302T130000
DTSTAMP:20260420T091234Z
DTSTART:20230302T103000
LOCATION:N/A
ORGANIZER:
SEQUENCE:0
SUMMARY:Plenary round-table panel on leveraging science\, technology\, inn
 ovation and digital transformation for accelerated recovery and implement
 ation of the 2030 Agenda for Sustainable Development and Agenda 2063: The
  Africa We Want\, of the African Union
UID:74f5dbe7-e105-49ee-9ab8-b25c4d53eed3
BEGIN:VALARM
ACTION:DISPLAY
DESCRIPTION:REMINDER : Plenary round-table panel on leveraging science\, t
 echnology\, innovation and digital transformation for accelerated recover
 y and implementation of the 2030 Agenda for Sustainable Development and A
 genda 2063: The Africa We Want\, of the African Union
TRIGGER:-PT15M
END:VALARM
END:VEVENT
BEGIN:VEVENT
CLASS:PUBLIC
DTEND:20230228T130000
DTSTAMP:20260420T091234Z
DTSTART:20230228T110000
LOCATION:N/A
ORGANIZER:
SEQUENCE:0
SUMMARY:Opening of the Session
UID:2ca040b1-828b-4a75-8796-774afb9e0401
BEGIN:VALARM
ACTION:DISPLAY
DESCRIPTION:REMINDER : Opening of the Session
TRIGGER:-PT15M
END:VALARM
END:VEVENT
BEGIN:VEVENT
CLASS:PUBLIC
DTEND:20230301T130000
DTSTAMP:20260420T091234Z
DTSTART:20230301T110000
LOCATION:N/A
ORGANIZER:
SEQUENCE:0
SUMMARY:Plenary round-table panel on rethinking data availability and data
  systems in Africa to address multiple shocks and accelerate implementati
 on of the 2030 Agenda for Sustainable Development and Agenda 2063: The Af
 rica We Want\, of the African Union
UID:8bf122a4-7627-49b5-be54-b52eca988911
BEGIN:VALARM
ACTION:DISPLAY
DESCRIPTION:REMINDER : Plenary round-table panel on rethinking data availa
 bility and data systems in Africa to address multiple shocks and accelera
 te implementation of the 2030 Agenda for Sustainable Development and Agen
 da 2063: The Africa We Want\, of the African Union
TRIGGER:-PT15M
END:VALARM
END:VEVENT
BEGIN:VEVENT
CLASS:PUBLIC
DTEND:20230228T133000
DTSTAMP:20260420T091234Z
DTSTART:20230228T110000
LOCATION:N/A
ORGANIZER:
SEQUENCE:0
SUMMARY:Opening of the Session
UID:f566ed8b-0c07-44c9-adc5-743eb256b0e4
BEGIN:VALARM
ACTION:DISPLAY
DESCRIPTION:REMINDER : Opening of the Session
TRIGGER:-PT15M
END:VALARM
END:VEVENT
BEGIN:VEVENT
CLASS:PUBLIC
DTEND:20230228T133000
DTSTAMP:20260420T091234Z
DTSTART:20230228T130000
LOCATION:N/A
ORGANIZER:
SEQUENCE:0
SUMMARY:Opening of the Session
UID:1e014ca9-019f-469d-8326-7cdc84aa56c8
BEGIN:VALARM
ACTION:DISPLAY
DESCRIPTION:REMINDER : Opening of the Session
TRIGGER:-PT15M
END:VALARM
END:VEVENT
BEGIN:VEVENT
CLASS:PUBLIC
DTEND:20230301T143000
DTSTAMP:20260420T091234Z
DTSTART:20230301T130000
LOCATION:N/A
ORGANIZER:
SEQUENCE:0
SUMMARY:Plenary round-table panel on rethinking data availability and data
  systems in Africa to address multiple shocks and accelerate implementati
 on of the 2030 Agenda for Sustainable Development and Agenda 2063: The Af
 rica We Want\, of the African Union
UID:db2d8dd2-9e8c-4780-9bd2-a599ce32e615
BEGIN:VALARM
ACTION:DISPLAY
DESCRIPTION:REMINDER : Plenary round-table panel on rethinking data availa
 bility and data systems in Africa to address multiple shocks and accelera
 te implementation of the 2030 Agenda for Sustainable Development and Agen
 da 2063: The Africa We Want\, of the African Union
TRIGGER:-PT15M
END:VALARM
END:VEVENT
BEGIN:VEVENT
CLASS:PUBLIC
DTEND:20230302T143000
DTSTAMP:20260420T091234Z
DTSTART:20230302T130000
LOCATION:N/A
ORGANIZER:
SEQUENCE:0
SUMMARY:Plenary round-table panel on leveraging science\, technology\, inn
 ovation and digital transformation for accelerated recovery and implement
 ation of the 2030 Agenda for Sustainable Development and Agenda 2063: The
  Africa We Want\, of the African Union
UID:d56bd6e7-da9c-429e-bf0e-b81285c65794
BEGIN:VALARM
ACTION:DISPLAY
DESCRIPTION:REMINDER : Plenary round-table panel on leveraging science\, t
 echnology\, innovation and digital transformation for accelerated recover
 y and implementation of the 2030 Agenda for Sustainable Development and A
 genda 2063: The Africa We Want\, of the African Union
TRIGGER:-PT15M
END:VALARM
END:VEVENT
BEGIN:VEVENT
CLASS:PUBLIC
DTEND:20230228T143000
DTSTAMP:20260420T091234Z
DTSTART:20230228T133000
LOCATION:N/A
ORGANIZER:
SEQUENCE:0
SUMMARY:Opening of the Session
UID:aba28406-b2fc-428a-a535-8be0231eb756
BEGIN:VALARM
ACTION:DISPLAY
DESCRIPTION:REMINDER : Opening of the Session
TRIGGER:-PT15M
END:VALARM
END:VEVENT
BEGIN:VEVENT
CLASS:PUBLIC
DTEND:20230302T153000
DTSTAMP:20260420T091234Z
DTSTART:20230302T143000
LOCATION:N/A
ORGANIZER:
SEQUENCE:0
SUMMARY:Plenary round-table panel on leveraging science\, technology\, inn
 ovation and digital transformation for accelerated recovery and implement
 ation of the 2030 Agenda for Sustainable Development and Agenda 2063: The
  Africa We Want\, of the African Union
UID:8b1ffbc0-62da-4c56-b230-4f7ece16556c
BEGIN:VALARM
ACTION:DISPLAY
DESCRIPTION:REMINDER : Plenary round-table panel on leveraging science\, t
 echnology\, innovation and digital transformation for accelerated recover
 y and implementation of the 2030 Agenda for Sustainable Development and A
 genda 2063: The Africa We Want\, of the African Union
TRIGGER:-PT15M
END:VALARM
END:VEVENT
BEGIN:VEVENT
CLASS:PUBLIC
DTEND:20230228T160000
DTSTAMP:20260420T091234Z
DTSTART:20230228T143000
LOCATION:N/A
ORGANIZER:
SEQUENCE:0
SUMMARY:Opening of the Session
UID:70bb1edb-8d15-4806-95f2-9a168dfb5a96
BEGIN:VALARM
ACTION:DISPLAY
DESCRIPTION:REMINDER : Opening of the Session
TRIGGER:-PT15M
END:VALARM
END:VEVENT
BEGIN:VEVENT
CLASS:PUBLIC
DTEND:20230301T163000
DTSTAMP:20260420T091234Z
DTSTART:20230301T143000
LOCATION:N/A
ORGANIZER:
SEQUENCE:0
SUMMARY:Plenary round-table panel on rethinking data availability and data
  systems in Africa to address multiple shocks and accelerate implementati
 on of the 2030 Agenda for Sustainable Development and Agenda 2063: The Af
 rica We Want\, of the African Union
UID:5e9956d1-7c35-4724-8162-e611cc556aa6
BEGIN:VALARM
ACTION:DISPLAY
DESCRIPTION:REMINDER : Plenary round-table panel on rethinking data availa
 bility and data systems in Africa to address multiple shocks and accelera
 te implementation of the 2030 Agenda for Sustainable Development and Agen
 da 2063: The Africa We Want\, of the African Union
TRIGGER:-PT15M
END:VALARM
END:VEVENT
BEGIN:VEVENT
CLASS:PUBLIC
DTEND:20230302T154500
DTSTAMP:20260420T091234Z
DTSTART:20230302T153000
LOCATION:N/A
ORGANIZER:
SEQUENCE:0
SUMMARY:Plenary round-table panel on leveraging science\, technology\, inn
 ovation and digital transformation for accelerated recovery and implement
 ation of the 2030 Agenda for Sustainable Development and Agenda 2063: The
  Africa We Want\, of the African Union
UID:bf7d93c9-9013-4d7c-bc1f-9b1c5430de92
BEGIN:VALARM
ACTION:DISPLAY
DESCRIPTION:REMINDER : Plenary round-table panel on leveraging science\, t
 echnology\, innovation and digital transformation for accelerated recover
 y and implementation of the 2030 Agenda for Sustainable Development and A
 genda 2063: The Africa We Want\, of the African Union
TRIGGER:-PT15M
END:VALARM
END:VEVENT
BEGIN:VEVENT
CLASS:PUBLIC
DTEND:20230302T160000
DTSTAMP:20260420T091234Z
DTSTART:20230302T154500
LOCATION:N/A
ORGANIZER:
SEQUENCE:0
SUMMARY:Plenary round-table panel on leveraging science\, technology\, inn
 ovation and digital transformation for accelerated recovery and implement
 ation of the 2030 Agenda for Sustainable Development and Agenda 2063: The
  Africa We Want\, of the African Union
UID:822b7280-deb1-42e6-b98a-d7a819342592
BEGIN:VALARM
ACTION:DISPLAY
DESCRIPTION:REMINDER : Plenary round-table panel on leveraging science\, t
 echnology\, innovation and digital transformation for accelerated recover
 y and implementation of the 2030 Agenda for Sustainable Development and A
 genda 2063: The Africa We Want\, of the African Union
TRIGGER:-PT15M
END:VALARM
END:VEVENT
BEGIN:VEVENT
CLASS:PUBLIC
DTEND:20230302T163000
DTSTAMP:20260420T091234Z
DTSTART:20230302T160000
LOCATION:N/A
ORGANIZER:
SEQUENCE:0
SUMMARY:Plenary round-table panel on leveraging science\, technology\, inn
 ovation and digital transformation for accelerated recovery and implement
 ation of the 2030 Agenda for Sustainable Development and Agenda 2063: The
  Africa We Want\, of the African Union
UID:07e3698a-bcb7-4f06-b98d-8287189c002f
BEGIN:VALARM
ACTION:DISPLAY
DESCRIPTION:REMINDER : Plenary round-table panel on leveraging science\, t
 echnology\, innovation and digital transformation for accelerated recover
 y and implementation of the 2030 Agenda for Sustainable Development and A
 genda 2063: The Africa We Want\, of the African Union
TRIGGER:-PT15M
END:VALARM
END:VEVENT
BEGIN:VEVENT
CLASS:PUBLIC
DTEND:20230301T173000
DTSTAMP:20260420T091234Z
DTSTART:20230301T163000
LOCATION:N/A
ORGANIZER:
SEQUENCE:0
SUMMARY:Plenary round-table panel on rethinking data availability and data
  systems in Africa to address multiple shocks and accelerate implementati
 on of the 2030 Agenda for Sustainable Development and Agenda 2063: The Af
 rica We Want\, of the African Union
UID:78948dc2-4586-4dd2-9bfb-a9c1290df379
BEGIN:VALARM
ACTION:DISPLAY
DESCRIPTION:REMINDER : Plenary round-table panel on rethinking data availa
 bility and data systems in Africa to address multiple shocks and accelera
 te implementation of the 2030 Agenda for Sustainable Development and Agen
 da 2063: The Africa We Want\, of the African Union
TRIGGER:-PT15M
END:VALARM
END:VEVENT
BEGIN:VEVENT
CLASS:PUBLIC
DTEND:20230228T180000
DTSTAMP:20260420T091234Z
DTSTART:20230228T163000
LOCATION:N/A
ORGANIZER:
SEQUENCE:0
SUMMARY:Opening of the Session
UID:7bfb9193-8893-47ed-b7ab-b6a1d964fd8a
BEGIN:VALARM
ACTION:DISPLAY
DESCRIPTION:REMINDER : Opening of the Session
TRIGGER:-PT15M
END:VALARM
END:VEVENT
END:VCALENDAR
