BEGIN:VCALENDAR
METHOD:PUBLISH
PRODID:-//github.com/rianjs/ical.net//NONSGML ical.net 4.0//EN
VERSION:2.0
BEGIN:VEVENT
CLASS:PUBLIC
DTEND:20230315T093000
DTSTAMP:20260421T082358Z
DTSTART:20230315T090000
LOCATION:Skylight Hotel Grand Ballroom (Abyssinia)
ORGANIZER:
SEQUENCE:0
SUMMARY:Wednesday\, 15 March : Meeting of The Committee of Experts
UID:30fa443c-9749-4eb9-a8ca-49f12a11d74a
BEGIN:VALARM
ACTION:DISPLAY
DESCRIPTION:REMINDER : Wednesday\, 15 March : Meeting of The Committee of 
 Experts
TRIGGER:-PT15M
END:VALARM
END:VEVENT
BEGIN:VEVENT
CLASS:PUBLIC
DTEND:20230317T103000
DTSTAMP:20260421T082358Z
DTSTART:20230317T090000
LOCATION:Skylight Hotel Grand Ballroom (Abyssinia)
ORGANIZER:
SEQUENCE:0
SUMMARY:Friday\, 17 March : Meeting of The Committee Of Experts
UID:c84dcd1d-d002-4606-9ace-5b402fad9e1e
BEGIN:VALARM
ACTION:DISPLAY
DESCRIPTION:REMINDER : Friday\, 17 March : Meeting of The Committee Of Exp
 erts
TRIGGER:-PT15M
END:VALARM
END:VEVENT
BEGIN:VEVENT
CLASS:PUBLIC
DTEND:20230316T104500
DTSTAMP:20260421T082358Z
DTSTART:20230316T090000
LOCATION:Skylight Hotel Grand Ballroom (Abyssinia)
ORGANIZER:
SEQUENCE:0
SUMMARY:Thursday\, 16 March : Meeting of The Committee of Experts
UID:f7dc9022-f142-4eb5-bd2c-59b7ddd443cf
BEGIN:VALARM
ACTION:DISPLAY
DESCRIPTION:REMINDER : Thursday\, 16 March : Meeting of The Committee of E
 xperts
TRIGGER:-PT15M
END:VALARM
END:VEVENT
BEGIN:VEVENT
CLASS:PUBLIC
DTEND:20230321T110000
DTSTAMP:20260421T082358Z
DTSTART:20230321T090000
LOCATION:Skylight Hotel Grand Ballroom (Abyssinia)
ORGANIZER:
SEQUENCE:0
SUMMARY:Tuesday\, 21 March : Conference of Ministers
UID:01d92adf-c875-46c2-ab17-40d12226a57f
BEGIN:VALARM
ACTION:DISPLAY
DESCRIPTION:REMINDER : Tuesday\, 21 March : Conference of Ministers
TRIGGER:-PT15M
END:VALARM
END:VEVENT
BEGIN:VEVENT
CLASS:PUBLIC
DTEND:20230315T094500
DTSTAMP:20260421T082358Z
DTSTART:20230315T093000
LOCATION:Skylight Hotel Grand Ballroom (Abyssinia)
ORGANIZER:
SEQUENCE:0
SUMMARY:Wednesday\, 15 March : Meeting of The Committee of Experts
UID:87ba5e04-d4a5-4e90-84b5-9abb34433c8b
BEGIN:VALARM
ACTION:DISPLAY
DESCRIPTION:REMINDER : Wednesday\, 15 March : Meeting of The Committee of 
 Experts
TRIGGER:-PT15M
END:VALARM
END:VEVENT
BEGIN:VEVENT
CLASS:PUBLIC
DTEND:20230320T103000
DTSTAMP:20260421T082358Z
DTSTART:20230320T093000
LOCATION:Skylight Hotel Grand Ballroom (Abyssinia)
ORGANIZER:
SEQUENCE:0
SUMMARY:Monday\, 20 March : Conference of Ministers
UID:1b391e58-896e-4f93-83bf-6ee87a49caab
BEGIN:VALARM
ACTION:DISPLAY
DESCRIPTION:REMINDER : Monday\, 20 March : Conference of Ministers
TRIGGER:-PT15M
END:VALARM
END:VEVENT
BEGIN:VEVENT
CLASS:PUBLIC
DTEND:20230315T110000
DTSTAMP:20260421T082358Z
DTSTART:20230315T094500
LOCATION:Skylight Hotel Grand Ballroom (Abyssinia)
ORGANIZER:
SEQUENCE:0
SUMMARY:Wednesday\, 15 March : Meeting of The Committee of Experts
UID:91043004-9695-42bc-9b1a-47b5d92632eb
BEGIN:VALARM
ACTION:DISPLAY
DESCRIPTION:REMINDER : Wednesday\, 15 March : Meeting of The Committee of 
 Experts
TRIGGER:-PT15M
END:VALARM
END:VEVENT
BEGIN:VEVENT
CLASS:PUBLIC
DTEND:20230317T104500
DTSTAMP:20260421T082358Z
DTSTART:20230317T103000
LOCATION:N/A
ORGANIZER:
SEQUENCE:0
SUMMARY:Friday\, 17 March : Meeting of The Committee Of Experts
UID:5f487b7f-a599-4ca0-94b5-2508f6590501
BEGIN:VALARM
ACTION:DISPLAY
DESCRIPTION:REMINDER : Friday\, 17 March : Meeting of The Committee Of Exp
 erts
TRIGGER:-PT15M
END:VALARM
END:VEVENT
BEGIN:VEVENT
CLASS:PUBLIC
DTEND:20230320T104500
DTSTAMP:20260421T082358Z
DTSTART:20230320T103000
LOCATION:Skylight Hotel Grand Ballroom (Abyssinia)
ORGANIZER:
SEQUENCE:0
SUMMARY:Monday\, 20 March : Conference of Ministers
UID:db23fc02-06a9-412c-9646-ecea6649a065
BEGIN:VALARM
ACTION:DISPLAY
DESCRIPTION:REMINDER : Monday\, 20 March : Conference of Ministers
TRIGGER:-PT15M
END:VALARM
END:VEVENT
BEGIN:VEVENT
CLASS:PUBLIC
DTEND:20230320T110000
DTSTAMP:20260421T082358Z
DTSTART:20230320T104500
LOCATION:N/A
ORGANIZER:
SEQUENCE:0
SUMMARY:Monday\, 20 March : Conference of Ministers
UID:b5bdbeda-c7b1-452c-b76a-3affee847c73
BEGIN:VALARM
ACTION:DISPLAY
DESCRIPTION:REMINDER : Monday\, 20 March : Conference of Ministers
TRIGGER:-PT15M
END:VALARM
END:VEVENT
BEGIN:VEVENT
CLASS:PUBLIC
DTEND:20230316T110000
DTSTAMP:20260421T082358Z
DTSTART:20230316T104500
LOCATION:N/A
ORGANIZER:
SEQUENCE:0
SUMMARY:Thursday\, 16 March : Meeting of The Committee of Experts
UID:29701471-180e-474c-a317-7b16b6f61abf
BEGIN:VALARM
ACTION:DISPLAY
DESCRIPTION:REMINDER : Thursday\, 16 March : Meeting of The Committee of E
 xperts
TRIGGER:-PT15M
END:VALARM
END:VEVENT
BEGIN:VEVENT
CLASS:PUBLIC
DTEND:20230317T111500
DTSTAMP:20260421T082358Z
DTSTART:20230317T104500
LOCATION:Skylight Hotel Grand Ballroom (Abyssinia)
ORGANIZER:
SEQUENCE:0
SUMMARY:Friday\, 17 March : Meeting of The Committee Of Experts
UID:d6d2bd47-01fd-4f1f-abec-55771eb6aa97
BEGIN:VALARM
ACTION:DISPLAY
DESCRIPTION:REMINDER : Friday\, 17 March : Meeting of The Committee Of Exp
 erts
TRIGGER:-PT15M
END:VALARM
END:VEVENT
BEGIN:VEVENT
CLASS:PUBLIC
DTEND:20230321T111500
DTSTAMP:20260421T082358Z
DTSTART:20230321T110000
LOCATION:N/A
ORGANIZER:
SEQUENCE:0
SUMMARY:Tuesday\, 21 March : Conference of Ministers
UID:b03da9f7-3b95-4c11-880b-e882dd603aee
BEGIN:VALARM
ACTION:DISPLAY
DESCRIPTION:REMINDER : Tuesday\, 21 March : Conference of Ministers
TRIGGER:-PT15M
END:VALARM
END:VEVENT
BEGIN:VEVENT
CLASS:PUBLIC
DTEND:20230315T111500
DTSTAMP:20260421T082358Z
DTSTART:20230315T110000
LOCATION:N/A
ORGANIZER:
SEQUENCE:0
SUMMARY:Wednesday\, 15 March : Meeting of The Committee of Experts
UID:b2b89360-44c7-47fb-a62f-ef9970b893e1
BEGIN:VALARM
ACTION:DISPLAY
DESCRIPTION:REMINDER : Wednesday\, 15 March : Meeting of The Committee of 
 Experts
TRIGGER:-PT15M
END:VALARM
END:VEVENT
BEGIN:VEVENT
CLASS:PUBLIC
DTEND:20230316T123000
DTSTAMP:20260421T082358Z
DTSTART:20230316T110000
LOCATION:Skylight Hotel Grand Ballroom (Abyssinia)
ORGANIZER:
SEQUENCE:0
SUMMARY:Thursday\, 16 March : Meeting of The Committee of Experts
UID:6ca8445c-ec28-4f01-b57c-7304b1dc866b
BEGIN:VALARM
ACTION:DISPLAY
DESCRIPTION:REMINDER : Thursday\, 16 March : Meeting of The Committee of E
 xperts
TRIGGER:-PT15M
END:VALARM
END:VEVENT
BEGIN:VEVENT
CLASS:PUBLIC
DTEND:20230320T130000
DTSTAMP:20260421T082358Z
DTSTART:20230320T110000
LOCATION:Skylight Hotel Grand Ballroom (Abyssinia)
ORGANIZER:
SEQUENCE:0
SUMMARY:Monday\, 20 March : Conference of Ministers
UID:acf8209f-56f0-45e5-810e-ddff88d5365a
BEGIN:VALARM
ACTION:DISPLAY
DESCRIPTION:REMINDER : Monday\, 20 March : Conference of Ministers
TRIGGER:-PT15M
END:VALARM
END:VEVENT
BEGIN:VEVENT
CLASS:PUBLIC
DTEND:20230317T113000
DTSTAMP:20260421T082358Z
DTSTART:20230317T111500
LOCATION:Skylight Hotel Grand Ballroom (Abyssinia)
ORGANIZER:
SEQUENCE:0
SUMMARY:Friday\, 17 March : Meeting of The Committee Of Experts
UID:fc05dd62-4233-4350-b013-c0eb06c9597f
BEGIN:VALARM
ACTION:DISPLAY
DESCRIPTION:REMINDER : Friday\, 17 March : Meeting of The Committee Of Exp
 erts
TRIGGER:-PT15M
END:VALARM
END:VEVENT
BEGIN:VEVENT
CLASS:PUBLIC
DTEND:20230321T121500
DTSTAMP:20260421T082358Z
DTSTART:20230321T111500
LOCATION:Skylight Hotel Grand Ballroom (Abyssinia)
ORGANIZER:
SEQUENCE:0
SUMMARY:Tuesday\, 21 March : Conference of Ministers
UID:b57f51ad-9234-49ba-aa38-d14e12acc864
BEGIN:VALARM
ACTION:DISPLAY
DESCRIPTION:REMINDER : Tuesday\, 21 March : Conference of Ministers
TRIGGER:-PT15M
END:VALARM
END:VEVENT
BEGIN:VEVENT
CLASS:PUBLIC
DTEND:20230315T123000
DTSTAMP:20260421T082358Z
DTSTART:20230315T111500
LOCATION:Skylight Hotel Grand Ballroom (Abyssinia)
ORGANIZER:
SEQUENCE:0
SUMMARY:Wednesday\, 15 March : Meeting of The Committee of Experts
UID:26044760-36be-4afc-90ee-c4b583e5f3b5
BEGIN:VALARM
ACTION:DISPLAY
DESCRIPTION:REMINDER : Wednesday\, 15 March : Meeting of The Committee of 
 Experts
TRIGGER:-PT15M
END:VALARM
END:VEVENT
BEGIN:VEVENT
CLASS:PUBLIC
DTEND:20230317T160000
DTSTAMP:20260421T082358Z
DTSTART:20230317T113000
LOCATION:N/A
ORGANIZER:
SEQUENCE:0
SUMMARY:Friday\, 17 March : Meeting of The Committee Of Experts
UID:13848ad6-af21-4746-b520-4c37c72208b6
BEGIN:VALARM
ACTION:DISPLAY
DESCRIPTION:REMINDER : Friday\, 17 March : Meeting of The Committee Of Exp
 erts
TRIGGER:-PT15M
END:VALARM
END:VEVENT
BEGIN:VEVENT
CLASS:PUBLIC
DTEND:20230321T124500
DTSTAMP:20260421T082358Z
DTSTART:20230321T121500
LOCATION:Skylight Hotel Grand Ballroom (Abyssinia)
ORGANIZER:
SEQUENCE:0
SUMMARY:Tuesday\, 21 March : Conference of Ministers
UID:696cff60-74ae-43be-96aa-46af007ca078
BEGIN:VALARM
ACTION:DISPLAY
DESCRIPTION:REMINDER : Tuesday\, 21 March : Conference of Ministers
TRIGGER:-PT15M
END:VALARM
END:VEVENT
BEGIN:VEVENT
CLASS:PUBLIC
DTEND:20230316T143000
DTSTAMP:20260421T082358Z
DTSTART:20230316T123000
LOCATION:N/A
ORGANIZER:
SEQUENCE:0
SUMMARY:Thursday\, 16 March : Meeting of The Committee of Experts
UID:5484e207-8284-4693-8027-b70dbe705307
BEGIN:VALARM
ACTION:DISPLAY
DESCRIPTION:REMINDER : Thursday\, 16 March : Meeting of The Committee of E
 xperts
TRIGGER:-PT15M
END:VALARM
END:VEVENT
BEGIN:VEVENT
CLASS:PUBLIC
DTEND:20230315T143000
DTSTAMP:20260421T082358Z
DTSTART:20230315T123000
LOCATION:N/A
ORGANIZER:
SEQUENCE:0
SUMMARY:Wednesday\, 15 March : Meeting of The Committee of Experts
UID:2f69393e-7283-442d-a05e-d50b0d6de75c
BEGIN:VALARM
ACTION:DISPLAY
DESCRIPTION:REMINDER : Wednesday\, 15 March : Meeting of The Committee of 
 Experts
TRIGGER:-PT15M
END:VALARM
END:VEVENT
BEGIN:VEVENT
CLASS:PUBLIC
DTEND:20230321T130000
DTSTAMP:20260421T082358Z
DTSTART:20230321T124500
LOCATION:Skylight Hotel Grand Ballroom (Abyssinia)
ORGANIZER:
SEQUENCE:0
SUMMARY:Tuesday\, 21 March : Conference of Ministers
UID:2b36e460-d753-49d4-b838-8d8c0d0af1c2
BEGIN:VALARM
ACTION:DISPLAY
DESCRIPTION:REMINDER : Tuesday\, 21 March : Conference of Ministers
TRIGGER:-PT15M
END:VALARM
END:VEVENT
BEGIN:VEVENT
CLASS:PUBLIC
DTEND:20230320T143000
DTSTAMP:20260421T082358Z
DTSTART:20230320T130000
LOCATION:N/A
ORGANIZER:
SEQUENCE:0
SUMMARY:Monday\, 20 March : Conference of Ministers
UID:bbecaa83-6042-4124-8f75-edbb2d3ecfcc
BEGIN:VALARM
ACTION:DISPLAY
DESCRIPTION:REMINDER : Monday\, 20 March : Conference of Ministers
TRIGGER:-PT15M
END:VALARM
END:VEVENT
BEGIN:VEVENT
CLASS:PUBLIC
DTEND:20230320T153000
DTSTAMP:20260421T082358Z
DTSTART:20230320T143000
LOCATION:Skylight Hotel Grand Ballroom (Abyssinia)
ORGANIZER:
SEQUENCE:0
SUMMARY:Monday\, 20 March : Conference of Ministers
UID:a8e3d637-ff70-41ad-9234-7285f5025695
BEGIN:VALARM
ACTION:DISPLAY
DESCRIPTION:REMINDER : Monday\, 20 March : Conference of Ministers
TRIGGER:-PT15M
END:VALARM
END:VEVENT
BEGIN:VEVENT
CLASS:PUBLIC
DTEND:20230316T160000
DTSTAMP:20260421T082358Z
DTSTART:20230316T143000
LOCATION:Skylight Hotel Grand Ballroom (Abyssinia)
ORGANIZER:
SEQUENCE:0
SUMMARY:Thursday\, 16 March : Meeting of The Committee of Experts
UID:23c691d2-5725-4940-854c-dc326d21958f
BEGIN:VALARM
ACTION:DISPLAY
DESCRIPTION:REMINDER : Thursday\, 16 March : Meeting of The Committee of E
 xperts
TRIGGER:-PT15M
END:VALARM
END:VEVENT
BEGIN:VEVENT
CLASS:PUBLIC
DTEND:20230315T160000
DTSTAMP:20260421T082358Z
DTSTART:20230315T143000
LOCATION:Skylight Hotel Grand Ballroom (Abyssinia)
ORGANIZER:
SEQUENCE:0
SUMMARY:Wednesday\, 15 March : Meeting of The Committee of Experts
UID:ae51a574-8921-463c-98f6-e50a5b0bba85
BEGIN:VALARM
ACTION:DISPLAY
DESCRIPTION:REMINDER : Wednesday\, 15 March : Meeting of The Committee of 
 Experts
TRIGGER:-PT15M
END:VALARM
END:VEVENT
BEGIN:VEVENT
CLASS:PUBLIC
DTEND:20230320T183000
DTSTAMP:20260421T082358Z
DTSTART:20230320T153000
LOCATION:Skylight Hotel Grand Ballroom (Abyssinia)
ORGANIZER:
SEQUENCE:0
SUMMARY:Monday\, 20 March : Conference of Ministers
UID:cc7e877a-d58d-4b87-94fa-1f6469c0f429
BEGIN:VALARM
ACTION:DISPLAY
DESCRIPTION:REMINDER : Monday\, 20 March : Conference of Ministers
TRIGGER:-PT15M
END:VALARM
END:VEVENT
BEGIN:VEVENT
CLASS:PUBLIC
DTEND:20230315T161500
DTSTAMP:20260421T082358Z
DTSTART:20230315T160000
LOCATION:N/A
ORGANIZER:
SEQUENCE:0
SUMMARY:Wednesday\, 15 March : Meeting of The Committee of Experts
UID:abe402f7-e504-4bbd-a587-33d0b9a227a2
BEGIN:VALARM
ACTION:DISPLAY
DESCRIPTION:REMINDER : Wednesday\, 15 March : Meeting of The Committee of 
 Experts
TRIGGER:-PT15M
END:VALARM
END:VEVENT
BEGIN:VEVENT
CLASS:PUBLIC
DTEND:20230316T161500
DTSTAMP:20260421T082358Z
DTSTART:20230316T160000
LOCATION:N/A
ORGANIZER:
SEQUENCE:0
SUMMARY:Thursday\, 16 March : Meeting of The Committee of Experts
UID:d58b3ff5-7785-4928-9bc7-d03cbf376ac1
BEGIN:VALARM
ACTION:DISPLAY
DESCRIPTION:REMINDER : Thursday\, 16 March : Meeting of The Committee of E
 xperts
TRIGGER:-PT15M
END:VALARM
END:VEVENT
BEGIN:VEVENT
CLASS:PUBLIC
DTEND:20230317T180000
DTSTAMP:20260421T082358Z
DTSTART:20230317T160000
LOCATION:Skylight Hotel Grand Ballroom (Abyssinia)
ORGANIZER:
SEQUENCE:0
SUMMARY:Friday\, 17 March : Meeting of The Committee Of Experts
UID:f341a308-4ee5-4fce-851e-2b804ea93ea9
BEGIN:VALARM
ACTION:DISPLAY
DESCRIPTION:REMINDER : Friday\, 17 March : Meeting of The Committee Of Exp
 erts
TRIGGER:-PT15M
END:VALARM
END:VEVENT
BEGIN:VEVENT
CLASS:PUBLIC
DTEND:20230315T173000
DTSTAMP:20260421T082358Z
DTSTART:20230315T161500
LOCATION:Skylight Hotel Grand Ballroom (Abyssinia)
ORGANIZER:
SEQUENCE:0
SUMMARY:Wednesday\, 15 March : Meeting of The Committee of Experts
UID:56fca4fc-dc53-4e4b-9966-2def5ec9ab39
BEGIN:VALARM
ACTION:DISPLAY
DESCRIPTION:REMINDER : Wednesday\, 15 March : Meeting of The Committee of 
 Experts
TRIGGER:-PT15M
END:VALARM
END:VEVENT
BEGIN:VEVENT
CLASS:PUBLIC
DTEND:20230316T180000
DTSTAMP:20260421T082358Z
DTSTART:20230316T161500
LOCATION:Skylight Hotel Grand Ballroom (Abyssinia)
ORGANIZER:
SEQUENCE:0
SUMMARY:Thursday\, 16 March : Meeting of The Committee of Experts
UID:50d39b83-044b-4e55-b4dc-24a5b1a1c353
BEGIN:VALARM
ACTION:DISPLAY
DESCRIPTION:REMINDER : Thursday\, 16 March : Meeting of The Committee of E
 xperts
TRIGGER:-PT15M
END:VALARM
END:VEVENT
BEGIN:VEVENT
CLASS:PUBLIC
DTEND:20230317T183000
DTSTAMP:20260421T082358Z
DTSTART:20230317T180000
LOCATION:Skylight Hotel Grand Ballroom (Abyssinia)
ORGANIZER:
SEQUENCE:0
SUMMARY:Friday\, 17 March : Meeting of The Committee Of Experts
UID:65e60368-f203-42cb-82d8-9faf94f42055
BEGIN:VALARM
ACTION:DISPLAY
DESCRIPTION:REMINDER : Friday\, 17 March : Meeting of The Committee Of Exp
 erts
TRIGGER:-PT15M
END:VALARM
END:VEVENT
BEGIN:VEVENT
CLASS:PUBLIC
DTEND:20230320T190000
DTSTAMP:20260421T082358Z
DTSTART:20230320T183000
LOCATION:N/A
ORGANIZER:
SEQUENCE:0
SUMMARY:Monday\, 20 March : Conference of Ministers
UID:3aee6d02-f72e-4bd2-ac60-65b8d87ce003
BEGIN:VALARM
ACTION:DISPLAY
DESCRIPTION:REMINDER : Monday\, 20 March : Conference of Ministers
TRIGGER:-PT15M
END:VALARM
END:VEVENT
END:VCALENDAR
