BEGIN:VCALENDAR
METHOD:PUBLISH
PRODID:-//github.com/rianjs/ical.net//NONSGML ical.net 4.0//EN
VERSION:2.0
BEGIN:VEVENT
CLASS:PUBLIC
DTEND:20221023T093000
DTSTAMP:20260419T145921Z
DTSTART:20221023T090000
LOCATION:N/A
ORGANIZER:
SEQUENCE:0
SUMMARY:Tenth meeting of Forum on African Statistical Development\n
UID:5d02625b-4e87-4044-a5c9-edc5348c38f7
BEGIN:VALARM
ACTION:DISPLAY
DESCRIPTION:REMINDER : Tenth meeting of Forum on African Statistical Devel
 opment\n
TRIGGER:-PT15M
END:VALARM
END:VEVENT
BEGIN:VEVENT
CLASS:PUBLIC
DTEND:20221023T103000
DTSTAMP:20260419T145921Z
DTSTART:20221023T093000
LOCATION:N/A
ORGANIZER:
SEQUENCE:0
SUMMARY:Tenth meeting of Forum on African Statistical Development\n
UID:9141fa89-f924-4a57-8687-2f50dc014c5d
BEGIN:VALARM
ACTION:DISPLAY
DESCRIPTION:REMINDER : Tenth meeting of Forum on African Statistical Devel
 opment\n
TRIGGER:-PT15M
END:VALARM
END:VEVENT
BEGIN:VEVENT
CLASS:PUBLIC
DTEND:20221023T113000
DTSTAMP:20260419T145921Z
DTSTART:20221023T103000
LOCATION:N/A
ORGANIZER:
SEQUENCE:0
SUMMARY:Tenth meeting of Forum on African Statistical Development\n
UID:7a11a2be-c14b-4cc1-ab53-1644df79699f
BEGIN:VALARM
ACTION:DISPLAY
DESCRIPTION:REMINDER : Tenth meeting of Forum on African Statistical Devel
 opment\n
TRIGGER:-PT15M
END:VALARM
END:VEVENT
BEGIN:VEVENT
CLASS:PUBLIC
DTEND:20221023T115000
DTSTAMP:20260419T145921Z
DTSTART:20221023T113000
LOCATION:N/A
ORGANIZER:
SEQUENCE:0
SUMMARY:Tenth meeting of Forum on African Statistical Development\n
UID:f7950b3f-e1ac-4626-b246-9b0f37b3109f
BEGIN:VALARM
ACTION:DISPLAY
DESCRIPTION:REMINDER : Tenth meeting of Forum on African Statistical Devel
 opment\n
TRIGGER:-PT15M
END:VALARM
END:VEVENT
BEGIN:VEVENT
CLASS:PUBLIC
DTEND:20221023T123000
DTSTAMP:20260419T145921Z
DTSTART:20221023T115000
LOCATION:N/A
ORGANIZER:
SEQUENCE:0
SUMMARY:Tenth meeting of Forum on African Statistical Development\n
UID:2195f8b3-0f83-4f26-9825-780f1ba46760
BEGIN:VALARM
ACTION:DISPLAY
DESCRIPTION:REMINDER : Tenth meeting of Forum on African Statistical Devel
 opment\n
TRIGGER:-PT15M
END:VALARM
END:VEVENT
BEGIN:VEVENT
CLASS:PUBLIC
DTEND:20221023T130000
DTSTAMP:20260419T145921Z
DTSTART:20221023T123000
LOCATION:N/A
ORGANIZER:
SEQUENCE:0
SUMMARY:Tenth meeting of Forum on African Statistical Development\n
UID:b1eaf738-c29a-46ff-87d4-310eb68cb951
BEGIN:VALARM
ACTION:DISPLAY
DESCRIPTION:REMINDER : Tenth meeting of Forum on African Statistical Devel
 opment\n
TRIGGER:-PT15M
END:VALARM
END:VEVENT
END:VCALENDAR
