BEGIN:VCALENDAR
METHOD:PUBLISH
PRODID:-//github.com/rianjs/ical.net//NONSGML ical.net 4.0//EN
VERSION:2.0
BEGIN:VEVENT
CLASS:PUBLIC
DTEND:20220301T173000
DTSTAMP:20260420T160541Z
DTSTART:20220301T043000
LOCATION:N/A
ORGANIZER:
SEQUENCE:0
SUMMARY:Pre-event
UID:89561208-1454-4fea-8454-f0f6ed071f0d
BEGIN:VALARM
ACTION:DISPLAY
DESCRIPTION:REMINDER : Pre-event
TRIGGER:-PT15M
END:VALARM
END:VEVENT
BEGIN:VEVENT
CLASS:PUBLIC
DTEND:20220302T131000
DTSTAMP:20260420T160541Z
DTSTART:20220302T130000
LOCATION:N/A
ORGANIZER:
SEQUENCE:0
SUMMARY:Pre-event (continued)
UID:6de8c993-ccce-4ad4-97c5-c9308092c34a
BEGIN:VALARM
ACTION:DISPLAY
DESCRIPTION:REMINDER : Pre-event (continued)
TRIGGER:-PT15M
END:VALARM
END:VEVENT
BEGIN:VEVENT
CLASS:PUBLIC
DTEND:20220301T133000
DTSTAMP:20260420T160541Z
DTSTART:20220301T130000
LOCATION:N/A
ORGANIZER:
SEQUENCE:0
SUMMARY:Pre-event
UID:34c70c37-9195-48d1-9a07-03626e9393f2
BEGIN:VALARM
ACTION:DISPLAY
DESCRIPTION:REMINDER : Pre-event
TRIGGER:-PT15M
END:VALARM
END:VEVENT
BEGIN:VEVENT
CLASS:PUBLIC
DTEND:20220302T143000
DTSTAMP:20260420T160541Z
DTSTART:20220302T131000
LOCATION:N/A
ORGANIZER:
SEQUENCE:0
SUMMARY:Pre-event (continued)
UID:3ec6e186-9409-4456-8859-9847bb09bae9
BEGIN:VALARM
ACTION:DISPLAY
DESCRIPTION:REMINDER : Pre-event (continued)
TRIGGER:-PT15M
END:VALARM
END:VEVENT
BEGIN:VEVENT
CLASS:PUBLIC
DTEND:20220301T134500
DTSTAMP:20260420T160541Z
DTSTART:20220301T133000
LOCATION:N/A
ORGANIZER:
SEQUENCE:0
SUMMARY:Pre-event
UID:3a887711-5863-4fab-a77f-d183541bea0b
BEGIN:VALARM
ACTION:DISPLAY
DESCRIPTION:REMINDER : Pre-event
TRIGGER:-PT15M
END:VALARM
END:VEVENT
BEGIN:VEVENT
CLASS:PUBLIC
DTEND:20220301T150000
DTSTAMP:20260420T160541Z
DTSTART:20220301T134500
LOCATION:N/A
ORGANIZER:
SEQUENCE:0
SUMMARY:Pre-event
UID:20d3d043-b391-4d90-8729-35ea36d16d4b
BEGIN:VALARM
ACTION:DISPLAY
DESCRIPTION:REMINDER : Pre-event
TRIGGER:-PT15M
END:VALARM
END:VEVENT
BEGIN:VEVENT
CLASS:PUBLIC
DTEND:20220302T160000
DTSTAMP:20260420T160541Z
DTSTART:20220302T143000
LOCATION:N/A
ORGANIZER:
SEQUENCE:0
SUMMARY:Pre-event (continued)
UID:02d0e253-66bc-44be-92ae-783170e01076
BEGIN:VALARM
ACTION:DISPLAY
DESCRIPTION:REMINDER : Pre-event (continued)
TRIGGER:-PT15M
END:VALARM
END:VEVENT
BEGIN:VEVENT
CLASS:PUBLIC
DTEND:20220301T151500
DTSTAMP:20260420T160541Z
DTSTART:20220301T150000
LOCATION:N/A
ORGANIZER:
SEQUENCE:0
SUMMARY:Pre-event
UID:e9c7003c-3a5f-47fd-9966-82cf718cb940
BEGIN:VALARM
ACTION:DISPLAY
DESCRIPTION:REMINDER : Pre-event
TRIGGER:-PT15M
END:VALARM
END:VEVENT
BEGIN:VEVENT
CLASS:PUBLIC
DTEND:20220301T163000
DTSTAMP:20260420T160541Z
DTSTART:20220301T151500
LOCATION:N/A
ORGANIZER:
SEQUENCE:0
SUMMARY:Pre-event
UID:cc605297-608e-4e24-909c-df7d8479ad9b
BEGIN:VALARM
ACTION:DISPLAY
DESCRIPTION:REMINDER : Pre-event
TRIGGER:-PT15M
END:VALARM
END:VEVENT
BEGIN:VEVENT
CLASS:PUBLIC
DTEND:20220302T161500
DTSTAMP:20260420T160541Z
DTSTART:20220302T160000
LOCATION:N/A
ORGANIZER:
SEQUENCE:0
SUMMARY:Pre-event (continued)
UID:dde11aaa-65a7-4f1e-a502-a55583abf53a
BEGIN:VALARM
ACTION:DISPLAY
DESCRIPTION:REMINDER : Pre-event (continued)
TRIGGER:-PT15M
END:VALARM
END:VEVENT
BEGIN:VEVENT
CLASS:PUBLIC
DTEND:20220302T171500
DTSTAMP:20260420T160541Z
DTSTART:20220302T161500
LOCATION:N/A
ORGANIZER:
SEQUENCE:0
SUMMARY:Pre-event (continued)
UID:574388e7-2962-422c-8202-0d11d2f8f08b
BEGIN:VALARM
ACTION:DISPLAY
DESCRIPTION:REMINDER : Pre-event (continued)
TRIGGER:-PT15M
END:VALARM
END:VEVENT
BEGIN:VEVENT
CLASS:PUBLIC
DTEND:20220301T173000
DTSTAMP:20260420T160541Z
DTSTART:20220301T163000
LOCATION:N/A
ORGANIZER:
SEQUENCE:0
SUMMARY:Pre-event
UID:92c3f3e4-ea7b-4146-adde-5c262f3e3542
BEGIN:VALARM
ACTION:DISPLAY
DESCRIPTION:REMINDER : Pre-event
TRIGGER:-PT15M
END:VALARM
END:VEVENT
BEGIN:VEVENT
CLASS:PUBLIC
DTEND:20220302T173000
DTSTAMP:20260420T160541Z
DTSTART:20220302T171500
LOCATION:N/A
ORGANIZER:
SEQUENCE:0
SUMMARY:Pre-event (continued)
UID:1f3cc51b-6adf-42c8-b47e-3916578ff7b6
BEGIN:VALARM
ACTION:DISPLAY
DESCRIPTION:REMINDER : Pre-event (continued)
TRIGGER:-PT15M
END:VALARM
END:VEVENT
BEGIN:VEVENT
CLASS:PUBLIC
DTEND:20220301T181500
DTSTAMP:20260420T160541Z
DTSTART:20220301T173000
LOCATION:N/A
ORGANIZER:
SEQUENCE:0
SUMMARY:Pre-event
UID:cf97b09e-e494-403f-abea-28b463f6ab3e
BEGIN:VALARM
ACTION:DISPLAY
DESCRIPTION:REMINDER : Pre-event
TRIGGER:-PT15M
END:VALARM
END:VEVENT
BEGIN:VEVENT
CLASS:PUBLIC
DTEND:20220302T183000
DTSTAMP:20260420T160541Z
DTSTART:20220302T173000
LOCATION:N/A
ORGANIZER:
SEQUENCE:0
SUMMARY:Pre-event (continued)
UID:2ca2eb6a-c304-4bc4-98d4-cbf584b588df
BEGIN:VALARM
ACTION:DISPLAY
DESCRIPTION:REMINDER : Pre-event (continued)
TRIGGER:-PT15M
END:VALARM
END:VEVENT
BEGIN:VEVENT
CLASS:PUBLIC
DTEND:20220301T183000
DTSTAMP:20260420T160541Z
DTSTART:20220301T181500
LOCATION:N/A
ORGANIZER:
SEQUENCE:0
SUMMARY:Pre-event
UID:50d0e7a5-2db8-468e-9071-5125f0d77439
BEGIN:VALARM
ACTION:DISPLAY
DESCRIPTION:REMINDER : Pre-event
TRIGGER:-PT15M
END:VALARM
END:VEVENT
END:VCALENDAR
