BEGIN:VCALENDAR
METHOD:PUBLISH
PRODID:-//github.com/rianjs/ical.net//NONSGML ical.net 4.0//EN
VERSION:2.0
BEGIN:VEVENT
CLASS:PUBLIC
DTEND:20220303T093000
DTSTAMP:20260423T081803Z
DTSTART:20220303T070000
LOCATION:N/A
ORGANIZER:
SEQUENCE:0
SUMMARY:Thursday 3 March 2022
UID:e657d644-e6ee-4092-893d-68a945630139
BEGIN:VALARM
ACTION:DISPLAY
DESCRIPTION:REMINDER : Thursday 3 March 2022
TRIGGER:-PT15M
END:VALARM
END:VEVENT
BEGIN:VEVENT
CLASS:PUBLIC
DTEND:20220304T103000
DTSTAMP:20260423T081803Z
DTSTART:20220304T090000
LOCATION:N/A
ORGANIZER:
SEQUENCE:0
SUMMARY:Friday\, 4 March 2022
UID:b43ce14a-903f-43ee-8470-12f98409f404
BEGIN:VALARM
ACTION:DISPLAY
DESCRIPTION:REMINDER : Friday\, 4 March 2022
TRIGGER:-PT15M
END:VALARM
END:VEVENT
BEGIN:VEVENT
CLASS:PUBLIC
DTEND:20220303T103000
DTSTAMP:20260423T081803Z
DTSTART:20220303T093000
LOCATION:N/A
ORGANIZER:
SEQUENCE:0
SUMMARY:Thursday 3 March 2022
UID:59fe12a7-0b19-435d-9389-3afa76a6e21d
BEGIN:VALARM
ACTION:DISPLAY
DESCRIPTION:REMINDER : Thursday 3 March 2022
TRIGGER:-PT15M
END:VALARM
END:VEVENT
BEGIN:VEVENT
CLASS:PUBLIC
DTEND:20220305T113000
DTSTAMP:20260423T081803Z
DTSTART:20220305T100000
LOCATION:N/A
ORGANIZER:
SEQUENCE:0
SUMMARY:Saturday\, 5 March 2022
UID:a57b9a57-c32a-4b77-ad40-a39dabb8ac2e
BEGIN:VALARM
ACTION:DISPLAY
DESCRIPTION:REMINDER : Saturday\, 5 March 2022
TRIGGER:-PT15M
END:VALARM
END:VEVENT
BEGIN:VEVENT
CLASS:PUBLIC
DTEND:20220304T110000
DTSTAMP:20260423T081803Z
DTSTART:20220304T103000
LOCATION:N/A
ORGANIZER:
SEQUENCE:0
SUMMARY:Friday\, 4 March 2022
UID:28522182-6c42-4249-992f-e83b04c326b4
BEGIN:VALARM
ACTION:DISPLAY
DESCRIPTION:REMINDER : Friday\, 4 March 2022
TRIGGER:-PT15M
END:VALARM
END:VEVENT
BEGIN:VEVENT
CLASS:PUBLIC
DTEND:20220303T120000
DTSTAMP:20260423T081803Z
DTSTART:20220303T110000
LOCATION:N/A
ORGANIZER:
SEQUENCE:0
SUMMARY:Thursday 3 March 2022
UID:1a9bbada-bc58-469f-a322-6429b3e0685c
BEGIN:VALARM
ACTION:DISPLAY
DESCRIPTION:REMINDER : Thursday 3 March 2022
TRIGGER:-PT15M
END:VALARM
END:VEVENT
BEGIN:VEVENT
CLASS:PUBLIC
DTEND:20220304T124500
DTSTAMP:20260423T081803Z
DTSTART:20220304T110000
LOCATION:N/A
ORGANIZER:
SEQUENCE:0
SUMMARY:Friday\, 4 March 2022
UID:fd218ab9-cb42-4d41-991c-ab72ca6416ac
BEGIN:VALARM
ACTION:DISPLAY
DESCRIPTION:REMINDER : Friday\, 4 March 2022
TRIGGER:-PT15M
END:VALARM
END:VEVENT
BEGIN:VEVENT
CLASS:PUBLIC
DTEND:20220305T120000
DTSTAMP:20260423T081803Z
DTSTART:20220305T113000
LOCATION:N/A
ORGANIZER:
SEQUENCE:0
SUMMARY:Saturday\, 5 March 2022
UID:254e55d7-8a11-4020-8ab4-ea2533b2260d
BEGIN:VALARM
ACTION:DISPLAY
DESCRIPTION:REMINDER : Saturday\, 5 March 2022
TRIGGER:-PT15M
END:VALARM
END:VEVENT
BEGIN:VEVENT
CLASS:PUBLIC
DTEND:20220303T121500
DTSTAMP:20260423T081803Z
DTSTART:20220303T120000
LOCATION:N/A
ORGANIZER:
SEQUENCE:0
SUMMARY:Thursday 3 March 2022
UID:ed122656-8581-441a-9182-5891d4a603fa
BEGIN:VALARM
ACTION:DISPLAY
DESCRIPTION:REMINDER : Thursday 3 March 2022
TRIGGER:-PT15M
END:VALARM
END:VEVENT
BEGIN:VEVENT
CLASS:PUBLIC
DTEND:20220305T130000
DTSTAMP:20260423T081803Z
DTSTART:20220305T120000
LOCATION:N/A
ORGANIZER:
SEQUENCE:0
SUMMARY:Saturday\, 5 March 2022
UID:b1ca35be-c9e8-4cb0-bf1c-daf2dd0d66cf
BEGIN:VALARM
ACTION:DISPLAY
DESCRIPTION:REMINDER : Saturday\, 5 March 2022
TRIGGER:-PT15M
END:VALARM
END:VEVENT
BEGIN:VEVENT
CLASS:PUBLIC
DTEND:20220303T133000
DTSTAMP:20260423T081803Z
DTSTART:20220303T121500
LOCATION:N/A
ORGANIZER:
SEQUENCE:0
SUMMARY:Thursday 3 March 2022
UID:84028ee2-8aee-4eb1-bd45-7a2a8c69e9f7
BEGIN:VALARM
ACTION:DISPLAY
DESCRIPTION:REMINDER : Thursday 3 March 2022
TRIGGER:-PT15M
END:VALARM
END:VEVENT
BEGIN:VEVENT
CLASS:PUBLIC
DTEND:20220304T134500
DTSTAMP:20260423T081803Z
DTSTART:20220304T124500
LOCATION:N/A
ORGANIZER:
SEQUENCE:0
SUMMARY:Friday\, 4 March 2022
UID:4f9db22a-1714-4653-bd2e-d32c69b9cc8f
BEGIN:VALARM
ACTION:DISPLAY
DESCRIPTION:REMINDER : Friday\, 4 March 2022
TRIGGER:-PT15M
END:VALARM
END:VEVENT
BEGIN:VEVENT
CLASS:PUBLIC
DTEND:20220305T131500
DTSTAMP:20260423T081803Z
DTSTART:20220305T130000
LOCATION:N/A
ORGANIZER:
SEQUENCE:0
SUMMARY:Saturday\, 5 March 2022
UID:8e10e5bb-96b0-49dd-9740-64633b2289eb
BEGIN:VALARM
ACTION:DISPLAY
DESCRIPTION:REMINDER : Saturday\, 5 March 2022
TRIGGER:-PT15M
END:VALARM
END:VEVENT
BEGIN:VEVENT
CLASS:PUBLIC
DTEND:20220305T133000
DTSTAMP:20260423T081803Z
DTSTART:20220305T131500
LOCATION:N/A
ORGANIZER:
SEQUENCE:0
SUMMARY:Saturday\, 5 March 2022
UID:cc3303ce-7577-41eb-9971-d1e562bc9eee
BEGIN:VALARM
ACTION:DISPLAY
DESCRIPTION:REMINDER : Saturday\, 5 March 2022
TRIGGER:-PT15M
END:VALARM
END:VEVENT
BEGIN:VEVENT
CLASS:PUBLIC
DTEND:20220305T134500
DTSTAMP:20260423T081803Z
DTSTART:20220305T133000
LOCATION:N/A
ORGANIZER:
SEQUENCE:0
SUMMARY:Saturday\, 5 March 2022
UID:2da59f8a-57a5-4856-a88e-d0ca4621d7dd
BEGIN:VALARM
ACTION:DISPLAY
DESCRIPTION:REMINDER : Saturday\, 5 March 2022
TRIGGER:-PT15M
END:VALARM
END:VEVENT
BEGIN:VEVENT
CLASS:PUBLIC
DTEND:20220303T143000
DTSTAMP:20260423T081803Z
DTSTART:20220303T133000
LOCATION:N/A
ORGANIZER:
SEQUENCE:0
SUMMARY:Thursday 3 March 2022
UID:3d780f8f-bbba-4f3a-8d00-af8bea1f3704
BEGIN:VALARM
ACTION:DISPLAY
DESCRIPTION:REMINDER : Thursday 3 March 2022
TRIGGER:-PT15M
END:VALARM
END:VEVENT
BEGIN:VEVENT
CLASS:PUBLIC
DTEND:20220305T144500
DTSTAMP:20260423T081803Z
DTSTART:20220305T134500
LOCATION:N/A
ORGANIZER:
SEQUENCE:0
SUMMARY:Saturday\, 5 March 2022
UID:5f1194d2-f1f1-41b7-bdf6-152027ce19c3
BEGIN:VALARM
ACTION:DISPLAY
DESCRIPTION:REMINDER : Saturday\, 5 March 2022
TRIGGER:-PT15M
END:VALARM
END:VEVENT
BEGIN:VEVENT
CLASS:PUBLIC
DTEND:20220304T153000
DTSTAMP:20260423T081803Z
DTSTART:20220304T134500
LOCATION:N/A
ORGANIZER:
SEQUENCE:0
SUMMARY:Friday\, 4 March 2022
UID:6974e6c2-4a1e-455c-81f3-09618404cc56
BEGIN:VALARM
ACTION:DISPLAY
DESCRIPTION:REMINDER : Friday\, 4 March 2022
TRIGGER:-PT15M
END:VALARM
END:VEVENT
BEGIN:VEVENT
CLASS:PUBLIC
DTEND:20220303T144500
DTSTAMP:20260423T081803Z
DTSTART:20220303T143000
LOCATION:N/A
ORGANIZER:
SEQUENCE:0
SUMMARY:Thursday 3 March 2022
UID:57d3d8ce-f498-4ad7-90bc-625571fc2911
BEGIN:VALARM
ACTION:DISPLAY
DESCRIPTION:REMINDER : Thursday 3 March 2022
TRIGGER:-PT15M
END:VALARM
END:VEVENT
BEGIN:VEVENT
CLASS:PUBLIC
DTEND:20220303T153000
DTSTAMP:20260423T081803Z
DTSTART:20220303T144500
LOCATION:N/A
ORGANIZER:
SEQUENCE:0
SUMMARY:Thursday 3 March 2022
UID:061dcc46-f982-4468-b471-c3ed6193f404
BEGIN:VALARM
ACTION:DISPLAY
DESCRIPTION:REMINDER : Thursday 3 March 2022
TRIGGER:-PT15M
END:VALARM
END:VEVENT
BEGIN:VEVENT
CLASS:PUBLIC
DTEND:20220304T160000
DTSTAMP:20260423T081803Z
DTSTART:20220304T153000
LOCATION:N/A
ORGANIZER:
SEQUENCE:0
SUMMARY:Friday\, 4 March 2022
UID:ebeafbe2-5b7b-47e0-8be6-bd6ae6c267e2
BEGIN:VALARM
ACTION:DISPLAY
DESCRIPTION:REMINDER : Friday\, 4 March 2022
TRIGGER:-PT15M
END:VALARM
END:VEVENT
BEGIN:VEVENT
CLASS:PUBLIC
DTEND:20220303T170000
DTSTAMP:20260423T081803Z
DTSTART:20220303T153000
LOCATION:N/A
ORGANIZER:
SEQUENCE:0
SUMMARY:Thursday 3 March 2022
UID:13bf07f6-43f3-4943-9fe9-62655717cab7
BEGIN:VALARM
ACTION:DISPLAY
DESCRIPTION:REMINDER : Thursday 3 March 2022
TRIGGER:-PT15M
END:VALARM
END:VEVENT
BEGIN:VEVENT
CLASS:PUBLIC
DTEND:20220304T171500
DTSTAMP:20260423T081803Z
DTSTART:20220304T160000
LOCATION:N/A
ORGANIZER:
SEQUENCE:0
SUMMARY:Friday\, 4 March 2022
UID:0675fd3b-b1d5-44c5-b6f4-08d7236fe566
BEGIN:VALARM
ACTION:DISPLAY
DESCRIPTION:REMINDER : Friday\, 4 March 2022
TRIGGER:-PT15M
END:VALARM
END:VEVENT
BEGIN:VEVENT
CLASS:PUBLIC
DTEND:20220303T183000
DTSTAMP:20260423T081803Z
DTSTART:20220303T170000
LOCATION:N/A
ORGANIZER:
SEQUENCE:0
SUMMARY:Thursday 3 March 2022
UID:7e8de636-66c9-4a62-9ab7-a8ff4687ce94
BEGIN:VALARM
ACTION:DISPLAY
DESCRIPTION:REMINDER : Thursday 3 March 2022
TRIGGER:-PT15M
END:VALARM
END:VEVENT
BEGIN:VEVENT
CLASS:PUBLIC
DTEND:20220304T184500
DTSTAMP:20260423T081803Z
DTSTART:20220304T171500
LOCATION:N/A
ORGANIZER:
SEQUENCE:0
SUMMARY:Friday\, 4 March 2022
UID:8f241dfa-a606-4805-9632-2fff868c05bb
BEGIN:VALARM
ACTION:DISPLAY
DESCRIPTION:REMINDER : Friday\, 4 March 2022
TRIGGER:-PT15M
END:VALARM
END:VEVENT
BEGIN:VEVENT
CLASS:PUBLIC
DTEND:20220303T200000
DTSTAMP:20260423T081803Z
DTSTART:20220303T183000
LOCATION:N/A
ORGANIZER:
SEQUENCE:0
SUMMARY:Thursday 3 March 2022
UID:589dd03e-cdfe-4fbd-8139-85a1882f7e34
BEGIN:VALARM
ACTION:DISPLAY
DESCRIPTION:REMINDER : Thursday 3 March 2022
TRIGGER:-PT15M
END:VALARM
END:VEVENT
END:VCALENDAR
