BEGIN:VCALENDAR
METHOD:PUBLISH
PRODID:-//github.com/rianjs/ical.net//NONSGML ical.net 4.0//EN
VERSION:2.0
BEGIN:VEVENT
CLASS:PUBLIC
DTEND:20210225T093000
DTSTAMP:20260424T112418Z
DTSTART:20210225T080000
LOCATION:N/A
ORGANIZER:
SEQUENCE:0
SUMMARY:Thrusday\, 25 February 2021
UID:9de4f5a6-3d60-4b5d-a4b5-779b64454ab2
BEGIN:VALARM
ACTION:DISPLAY
DESCRIPTION:REMINDER : Thrusday\, 25 February 2021
TRIGGER:-PT15M
END:VALARM
END:VEVENT
BEGIN:VEVENT
CLASS:PUBLIC
DTEND:20210225T103000
DTSTAMP:20260424T112418Z
DTSTART:20210225T093000
LOCATION:N/A
ORGANIZER:
SEQUENCE:0
SUMMARY:Thrusday\, 25 February 2021
UID:2a643367-dabe-4e6a-98c6-bbf1c7398678
BEGIN:VALARM
ACTION:DISPLAY
DESCRIPTION:REMINDER : Thrusday\, 25 February 2021
TRIGGER:-PT15M
END:VALARM
END:VEVENT
BEGIN:VEVENT
CLASS:PUBLIC
DTEND:20210226T113000
DTSTAMP:20260424T112418Z
DTSTART:20210226T100000
LOCATION:N/A
ORGANIZER:
SEQUENCE:0
SUMMARY:Friday\, 26 February 2021
UID:135a43a0-c0e9-4d64-81d7-044d568bc416
BEGIN:VALARM
ACTION:DISPLAY
DESCRIPTION:REMINDER : Friday\, 26 February 2021
TRIGGER:-PT15M
END:VALARM
END:VEVENT
BEGIN:VEVENT
CLASS:PUBLIC
DTEND:20210226T113000
DTSTAMP:20260424T112418Z
DTSTART:20210226T100000
LOCATION:N/A
ORGANIZER:
SEQUENCE:0
SUMMARY:Friday\, 26 February 2021
UID:6a4b43fc-84de-4eb5-8a71-04174297ac73
BEGIN:VALARM
ACTION:DISPLAY
DESCRIPTION:REMINDER : Friday\, 26 February 2021
TRIGGER:-PT15M
END:VALARM
END:VEVENT
BEGIN:VEVENT
CLASS:PUBLIC
DTEND:20210225T113000
DTSTAMP:20260424T112418Z
DTSTART:20210225T103000
LOCATION:N/A
ORGANIZER:
SEQUENCE:0
SUMMARY:Thrusday\, 25 February 2021
UID:cd75a1ee-ed94-49e5-91cc-622235eb392a
BEGIN:VALARM
ACTION:DISPLAY
DESCRIPTION:REMINDER : Thrusday\, 25 February 2021
TRIGGER:-PT15M
END:VALARM
END:VEVENT
BEGIN:VEVENT
CLASS:PUBLIC
DTEND:20210225T130000
DTSTAMP:20260424T112418Z
DTSTART:20210225T113000
LOCATION:N/A
ORGANIZER:
SEQUENCE:0
SUMMARY:Thrusday\, 25 February 2021
UID:71cf7655-4c3d-42eb-91bf-be609b22fe45
BEGIN:VALARM
ACTION:DISPLAY
DESCRIPTION:REMINDER : Thrusday\, 25 February 2021
TRIGGER:-PT15M
END:VALARM
END:VEVENT
BEGIN:VEVENT
CLASS:PUBLIC
DTEND:20210226T130000
DTSTAMP:20260424T112418Z
DTSTART:20210226T113000
LOCATION:N/A
ORGANIZER:
SEQUENCE:0
SUMMARY:Friday\, 26 February 2021
UID:abe3da53-5d4c-416d-b8be-6959af307302
BEGIN:VALARM
ACTION:DISPLAY
DESCRIPTION:REMINDER : Friday\, 26 February 2021
TRIGGER:-PT15M
END:VALARM
END:VEVENT
BEGIN:VEVENT
CLASS:PUBLIC
DTEND:20210226T140000
DTSTAMP:20260424T112418Z
DTSTART:20210226T130000
LOCATION:N/A
ORGANIZER:
SEQUENCE:0
SUMMARY:Friday\, 26 February 2021
UID:48f91386-4157-4bb1-8b48-c05cf87e4103
BEGIN:VALARM
ACTION:DISPLAY
DESCRIPTION:REMINDER : Friday\, 26 February 2021
TRIGGER:-PT15M
END:VALARM
END:VEVENT
BEGIN:VEVENT
CLASS:PUBLIC
DTEND:20210225T140000
DTSTAMP:20260424T112418Z
DTSTART:20210225T130000
LOCATION:N/A
ORGANIZER:
SEQUENCE:0
SUMMARY:Thrusday\, 25 February 2021
UID:0f14d635-eb66-418d-a189-4af3063b9751
BEGIN:VALARM
ACTION:DISPLAY
DESCRIPTION:REMINDER : Thrusday\, 25 February 2021
TRIGGER:-PT15M
END:VALARM
END:VEVENT
BEGIN:VEVENT
CLASS:PUBLIC
DTEND:20210226T143000
DTSTAMP:20260424T112418Z
DTSTART:20210226T140000
LOCATION:N/A
ORGANIZER:
SEQUENCE:0
SUMMARY:Friday\, 26 February 2021
UID:1bebd277-087a-4cc4-8be0-7b574cccead9
BEGIN:VALARM
ACTION:DISPLAY
DESCRIPTION:REMINDER : Friday\, 26 February 2021
TRIGGER:-PT15M
END:VALARM
END:VEVENT
BEGIN:VEVENT
CLASS:PUBLIC
DTEND:20210225T160000
DTSTAMP:20260424T112418Z
DTSTART:20210225T140000
LOCATION:N/A
ORGANIZER:
SEQUENCE:0
SUMMARY:Thrusday\, 25 February 2021
UID:0cd488ea-902c-4e1b-bbe6-451dfd9bfa6c
BEGIN:VALARM
ACTION:DISPLAY
DESCRIPTION:REMINDER : Thrusday\, 25 February 2021
TRIGGER:-PT15M
END:VALARM
END:VEVENT
BEGIN:VEVENT
CLASS:PUBLIC
DTEND:20210226T150000
DTSTAMP:20260424T112418Z
DTSTART:20210226T143000
LOCATION:N/A
ORGANIZER:
SEQUENCE:0
SUMMARY:Friday\, 26 February 2021
UID:921869d0-01e7-47fa-9b9d-4b39fafa1482
BEGIN:VALARM
ACTION:DISPLAY
DESCRIPTION:REMINDER : Friday\, 26 February 2021
TRIGGER:-PT15M
END:VALARM
END:VEVENT
BEGIN:VEVENT
CLASS:PUBLIC
DTEND:20210226T163000
DTSTAMP:20260424T112418Z
DTSTART:20210226T153000
LOCATION:N/A
ORGANIZER:
SEQUENCE:0
SUMMARY:Friday\, 26 February 2021
UID:8eb421f1-f8d5-4ed7-9b91-7a601a895575
BEGIN:VALARM
ACTION:DISPLAY
DESCRIPTION:REMINDER : Friday\, 26 February 2021
TRIGGER:-PT15M
END:VALARM
END:VEVENT
BEGIN:VEVENT
CLASS:PUBLIC
DTEND:20210225T170000
DTSTAMP:20260424T112418Z
DTSTART:20210225T160000
LOCATION:N/A
ORGANIZER:
SEQUENCE:0
SUMMARY:Thrusday\, 25 February 2021
UID:74df5481-cbde-4b75-a82c-e525c9352958
BEGIN:VALARM
ACTION:DISPLAY
DESCRIPTION:REMINDER : Thrusday\, 25 February 2021
TRIGGER:-PT15M
END:VALARM
END:VEVENT
BEGIN:VEVENT
CLASS:PUBLIC
DTEND:20210226T173000
DTSTAMP:20260424T112418Z
DTSTART:20210226T163000
LOCATION:N/A
ORGANIZER:
SEQUENCE:0
SUMMARY:Friday\, 26 February 2021
UID:ab894935-17b9-4d2d-a9c8-58b517b57c5f
BEGIN:VALARM
ACTION:DISPLAY
DESCRIPTION:REMINDER : Friday\, 26 February 2021
TRIGGER:-PT15M
END:VALARM
END:VEVENT
END:VCALENDAR
