BEGIN:VCALENDAR
METHOD:PUBLISH
PRODID:-//github.com/rianjs/ical.net//NONSGML ical.net 4.0//EN
VERSION:2.0
BEGIN:VEVENT
CLASS:PUBLIC
DTEND:20210303T110000
DTSTAMP:20260421T151148Z
DTSTART:20210303T090000
LOCATION:N/A
ORGANIZER:
SEQUENCE:0
SUMMARY:Wednesday\, 3 March 2021
UID:32d12f07-3dc7-4135-ba5b-ced6e99ab044
BEGIN:VALARM
ACTION:DISPLAY
DESCRIPTION:REMINDER : Wednesday\, 3 March 2021
TRIGGER:-PT15M
END:VALARM
END:VEVENT
BEGIN:VEVENT
CLASS:PUBLIC
DTEND:20210301T130000
DTSTAMP:20260421T151148Z
DTSTART:20210301T090000
LOCATION:N/A
ORGANIZER:
SEQUENCE:0
SUMMARY:Monday\, 01 March 2021
UID:35ef7ea5-9a00-4027-8b3b-a4d7f8c71ef1
BEGIN:VALARM
ACTION:DISPLAY
DESCRIPTION:REMINDER : Monday\, 01 March 2021
TRIGGER:-PT15M
END:VALARM
END:VEVENT
BEGIN:VEVENT
CLASS:PUBLIC
DTEND:20210304T143000
DTSTAMP:20260421T151148Z
DTSTART:20210304T090000
LOCATION:N/A
ORGANIZER:
SEQUENCE:0
SUMMARY:Thursday\, March 04 2021
UID:9f68f459-e5bf-44b2-be65-372d3d1eac1b
BEGIN:VALARM
ACTION:DISPLAY
DESCRIPTION:REMINDER : Thursday\, March 04 2021
TRIGGER:-PT15M
END:VALARM
END:VEVENT
BEGIN:VEVENT
CLASS:PUBLIC
DTEND:20210301T153000
DTSTAMP:20260421T151148Z
DTSTART:20210301T090000
LOCATION:N/A
ORGANIZER:
SEQUENCE:0
SUMMARY:Monday\, 01 March 2021
UID:1e3fef61-feff-4b68-aa93-10d71f951371
BEGIN:VALARM
ACTION:DISPLAY
DESCRIPTION:REMINDER : Monday\, 01 March 2021
TRIGGER:-PT15M
END:VALARM
END:VEVENT
BEGIN:VEVENT
CLASS:PUBLIC
DTEND:20210304T133000
DTSTAMP:20260421T151148Z
DTSTART:20210304T091500
LOCATION:N/A
ORGANIZER:
SEQUENCE:0
SUMMARY:Thursday\, March 04 2021
UID:5c0eb5c5-4e89-42b8-a147-067fe8de3f43
BEGIN:VALARM
ACTION:DISPLAY
DESCRIPTION:REMINDER : Thursday\, March 04 2021
TRIGGER:-PT15M
END:VALARM
END:VEVENT
BEGIN:VEVENT
CLASS:PUBLIC
DTEND:20210304T232000
DTSTAMP:20260421T151148Z
DTSTART:20210304T091500
LOCATION:N/A
ORGANIZER:
SEQUENCE:0
SUMMARY:Thursday\, March 04 2021
UID:58d07db8-439d-43b2-a2d9-78b02b24889e
BEGIN:VALARM
ACTION:DISPLAY
DESCRIPTION:REMINDER : Thursday\, March 04 2021
TRIGGER:-PT15M
END:VALARM
END:VEVENT
BEGIN:VEVENT
CLASS:PUBLIC
DTEND:20210302T110000
DTSTAMP:20260421T151148Z
DTSTART:20210302T100000
LOCATION:N/A
ORGANIZER:
SEQUENCE:0
SUMMARY:Tuesday\, 2 March 2021
UID:2cd1c3d1-a913-4f82-b142-221132658e4e
BEGIN:VALARM
ACTION:DISPLAY
DESCRIPTION:REMINDER : Tuesday\, 2 March 2021
TRIGGER:-PT15M
END:VALARM
END:VEVENT
BEGIN:VEVENT
CLASS:PUBLIC
DTEND:20210302T111500
DTSTAMP:20260421T151148Z
DTSTART:20210302T110000
LOCATION:N/A
ORGANIZER:
SEQUENCE:0
SUMMARY:Tuesday\, 2 March 2021
UID:6592d627-69e0-477f-ba7c-cbc56b02c9a5
BEGIN:VALARM
ACTION:DISPLAY
DESCRIPTION:REMINDER : Tuesday\, 2 March 2021
TRIGGER:-PT15M
END:VALARM
END:VEVENT
BEGIN:VEVENT
CLASS:PUBLIC
DTEND:20210303T111500
DTSTAMP:20260421T151148Z
DTSTART:20210303T110000
LOCATION:N/A
ORGANIZER:
SEQUENCE:0
SUMMARY:Wednesday\, 3 March 2021
UID:6151abc1-6018-459e-b0c0-1643d374db43
BEGIN:VALARM
ACTION:DISPLAY
DESCRIPTION:REMINDER : Wednesday\, 3 March 2021
TRIGGER:-PT15M
END:VALARM
END:VEVENT
BEGIN:VEVENT
CLASS:PUBLIC
DTEND:20210302T130000
DTSTAMP:20260421T151148Z
DTSTART:20210302T111500
LOCATION:N/A
ORGANIZER:
SEQUENCE:0
SUMMARY:Tuesday\, 2 March 2021
UID:6ea5af13-4d87-4a36-a4f3-7f04ec40d4e0
BEGIN:VALARM
ACTION:DISPLAY
DESCRIPTION:REMINDER : Tuesday\, 2 March 2021
TRIGGER:-PT15M
END:VALARM
END:VEVENT
BEGIN:VEVENT
CLASS:PUBLIC
DTEND:20210303T131500
DTSTAMP:20260421T151148Z
DTSTART:20210303T111500
LOCATION:N/A
ORGANIZER:
SEQUENCE:0
SUMMARY:Wednesday\, 3 March 2021
UID:4985f5d0-8784-4039-8050-bdceebf53dc4
BEGIN:VALARM
ACTION:DISPLAY
DESCRIPTION:REMINDER : Wednesday\, 3 March 2021
TRIGGER:-PT15M
END:VALARM
END:VEVENT
BEGIN:VEVENT
CLASS:PUBLIC
DTEND:20210302T143000
DTSTAMP:20260421T151148Z
DTSTART:20210302T130000
LOCATION:N/A
ORGANIZER:
SEQUENCE:0
SUMMARY:Tuesday\, 2 March 2021
UID:4cf06ea0-4d37-441a-b1f7-d1884418f047
BEGIN:VALARM
ACTION:DISPLAY
DESCRIPTION:REMINDER : Tuesday\, 2 March 2021
TRIGGER:-PT15M
END:VALARM
END:VEVENT
BEGIN:VEVENT
CLASS:PUBLIC
DTEND:20210303T143000
DTSTAMP:20260421T151148Z
DTSTART:20210303T131500
LOCATION:N/A
ORGANIZER:
SEQUENCE:0
SUMMARY:Wednesday\, 3 March 2021
UID:cb5a1287-b322-4dfc-aa77-d4e255c1ea29
BEGIN:VALARM
ACTION:DISPLAY
DESCRIPTION:REMINDER : Wednesday\, 3 March 2021
TRIGGER:-PT15M
END:VALARM
END:VEVENT
BEGIN:VEVENT
CLASS:PUBLIC
DTEND:20210304T143000
DTSTAMP:20260421T151148Z
DTSTART:20210304T133000
LOCATION:N/A
ORGANIZER:
SEQUENCE:0
SUMMARY:Thursday\, March 04 2021
UID:1eb8b7cd-edc1-4ef2-af11-dcdc7b6f20ad
BEGIN:VALARM
ACTION:DISPLAY
DESCRIPTION:REMINDER : Thursday\, March 04 2021
TRIGGER:-PT15M
END:VALARM
END:VEVENT
BEGIN:VEVENT
CLASS:PUBLIC
DTEND:20210303T154500
DTSTAMP:20260421T151148Z
DTSTART:20210303T143000
LOCATION:N/A
ORGANIZER:
SEQUENCE:0
SUMMARY:Wednesday\, 3 March 2021
UID:ad95d310-a947-441b-94f7-ecd240144530
BEGIN:VALARM
ACTION:DISPLAY
DESCRIPTION:REMINDER : Wednesday\, 3 March 2021
TRIGGER:-PT15M
END:VALARM
END:VEVENT
BEGIN:VEVENT
CLASS:PUBLIC
DTEND:20210304T154500
DTSTAMP:20260421T151148Z
DTSTART:20210304T143000
LOCATION:N/A
ORGANIZER:
SEQUENCE:0
SUMMARY:Thursday\, March 04 2021
UID:66e48538-afb1-4c50-90d1-d02d6a4c21e8
BEGIN:VALARM
ACTION:DISPLAY
DESCRIPTION:REMINDER : Thursday\, March 04 2021
TRIGGER:-PT15M
END:VALARM
END:VEVENT
BEGIN:VEVENT
CLASS:PUBLIC
DTEND:20210302T160000
DTSTAMP:20260421T151148Z
DTSTART:20210302T143000
LOCATION:N/A
ORGANIZER:
SEQUENCE:0
SUMMARY:Tuesday\, 2 March 2021
UID:20dfcd8e-10e9-4c9b-bd50-cb1c933befba
BEGIN:VALARM
ACTION:DISPLAY
DESCRIPTION:REMINDER : Tuesday\, 2 March 2021
TRIGGER:-PT15M
END:VALARM
END:VEVENT
BEGIN:VEVENT
CLASS:PUBLIC
DTEND:20210301T161500
DTSTAMP:20260421T151148Z
DTSTART:20210301T153000
LOCATION:N/A
ORGANIZER:
SEQUENCE:0
SUMMARY:Monday\, 01 March 2021
UID:3486be69-3cee-485c-bbd2-f46fe027a692
BEGIN:VALARM
ACTION:DISPLAY
DESCRIPTION:REMINDER : Monday\, 01 March 2021
TRIGGER:-PT15M
END:VALARM
END:VEVENT
BEGIN:VEVENT
CLASS:PUBLIC
DTEND:20210304T160000
DTSTAMP:20260421T151148Z
DTSTART:20210304T154500
LOCATION:N/A
ORGANIZER:
SEQUENCE:0
SUMMARY:Thursday\, March 04 2021
UID:fa4d789e-431d-481b-a3ff-c4f14c93e89b
BEGIN:VALARM
ACTION:DISPLAY
DESCRIPTION:REMINDER : Thursday\, March 04 2021
TRIGGER:-PT15M
END:VALARM
END:VEVENT
BEGIN:VEVENT
CLASS:PUBLIC
DTEND:20210303T160000
DTSTAMP:20260421T151148Z
DTSTART:20210303T154500
LOCATION:N/A
ORGANIZER:
SEQUENCE:0
SUMMARY:Wednesday\, 3 March 2021
UID:132d0333-907b-4069-819f-19c2c8ce73bc
BEGIN:VALARM
ACTION:DISPLAY
DESCRIPTION:REMINDER : Wednesday\, 3 March 2021
TRIGGER:-PT15M
END:VALARM
END:VEVENT
BEGIN:VEVENT
CLASS:PUBLIC
DTEND:20210302T161500
DTSTAMP:20260421T151148Z
DTSTART:20210302T160000
LOCATION:N/A
ORGANIZER:
SEQUENCE:0
SUMMARY:Tuesday\, 2 March 2021
UID:22e322b9-12fc-48bd-8fcd-b1b08af35d8b
BEGIN:VALARM
ACTION:DISPLAY
DESCRIPTION:REMINDER : Tuesday\, 2 March 2021
TRIGGER:-PT15M
END:VALARM
END:VEVENT
BEGIN:VEVENT
CLASS:PUBLIC
DTEND:20210304T170000
DTSTAMP:20260421T151148Z
DTSTART:20210304T160000
LOCATION:N/A
ORGANIZER:
SEQUENCE:0
SUMMARY:Thursday\, March 04 2021
UID:46945033-fb8b-42f5-88a0-41a6e40c4e7d
BEGIN:VALARM
ACTION:DISPLAY
DESCRIPTION:REMINDER : Thursday\, March 04 2021
TRIGGER:-PT15M
END:VALARM
END:VEVENT
BEGIN:VEVENT
CLASS:PUBLIC
DTEND:20210303T171500
DTSTAMP:20260421T151148Z
DTSTART:20210303T160000
LOCATION:N/A
ORGANIZER:
SEQUENCE:0
SUMMARY:Wednesday\, 3 March 2021
UID:de872d1a-f037-4b0e-adc8-261ec9e673c0
BEGIN:VALARM
ACTION:DISPLAY
DESCRIPTION:REMINDER : Wednesday\, 3 March 2021
TRIGGER:-PT15M
END:VALARM
END:VEVENT
BEGIN:VEVENT
CLASS:PUBLIC
DTEND:20210301T163000
DTSTAMP:20260421T151148Z
DTSTART:20210301T161500
LOCATION:N/A
ORGANIZER:
SEQUENCE:0
SUMMARY:Monday\, 01 March 2021
UID:10bb283f-77e2-4114-97c0-4c1704b720af
BEGIN:VALARM
ACTION:DISPLAY
DESCRIPTION:REMINDER : Monday\, 01 March 2021
TRIGGER:-PT15M
END:VALARM
END:VEVENT
BEGIN:VEVENT
CLASS:PUBLIC
DTEND:20210302T180000
DTSTAMP:20260421T151148Z
DTSTART:20210302T161500
LOCATION:N/A
ORGANIZER:
SEQUENCE:0
SUMMARY:Tuesday\, 2 March 2021
UID:c93386bb-564b-4ae2-bb81-53db040198e5
BEGIN:VALARM
ACTION:DISPLAY
DESCRIPTION:REMINDER : Tuesday\, 2 March 2021
TRIGGER:-PT15M
END:VALARM
END:VEVENT
BEGIN:VEVENT
CLASS:PUBLIC
DTEND:20210301T183000
DTSTAMP:20260421T151148Z
DTSTART:20210301T163000
LOCATION:N/A
ORGANIZER:
SEQUENCE:0
SUMMARY:Monday\, 01 March 2021
UID:8baa8065-fda2-4917-ad63-2695487beb6e
BEGIN:VALARM
ACTION:DISPLAY
DESCRIPTION:REMINDER : Monday\, 01 March 2021
TRIGGER:-PT15M
END:VALARM
END:VEVENT
BEGIN:VEVENT
CLASS:PUBLIC
DTEND:20210304T171500
DTSTAMP:20260421T151148Z
DTSTART:20210304T170000
LOCATION:N/A
ORGANIZER:
SEQUENCE:0
SUMMARY:Thursday\, March 04 2021
UID:cfe2ea4c-364c-419a-a3e1-97f4dbeb5263
BEGIN:VALARM
ACTION:DISPLAY
DESCRIPTION:REMINDER : Thursday\, March 04 2021
TRIGGER:-PT15M
END:VALARM
END:VEVENT
BEGIN:VEVENT
CLASS:PUBLIC
DTEND:20210304T173000
DTSTAMP:20260421T151148Z
DTSTART:20210304T171500
LOCATION:N/A
ORGANIZER:
SEQUENCE:0
SUMMARY:Thursday\, March 04 2021
UID:7cd5f14b-f6a8-4395-949b-b3511693a9dd
BEGIN:VALARM
ACTION:DISPLAY
DESCRIPTION:REMINDER : Thursday\, March 04 2021
TRIGGER:-PT15M
END:VALARM
END:VEVENT
BEGIN:VEVENT
CLASS:PUBLIC
DTEND:20210304T173000
DTSTAMP:20260421T151148Z
DTSTART:20210304T173000
LOCATION:N/A
ORGANIZER:
SEQUENCE:0
SUMMARY:Thursday\, March 04 2021
UID:ab444e32-a998-4fe8-98a1-ebd77ff74fac
BEGIN:VALARM
ACTION:DISPLAY
DESCRIPTION:REMINDER : Thursday\, March 04 2021
TRIGGER:-PT15M
END:VALARM
END:VEVENT
END:VCALENDAR
