BEGIN:VCALENDAR
METHOD:PUBLISH
PRODID:-//github.com/rianjs/ical.net//NONSGML ical.net 4.0//EN
VERSION:2.0
BEGIN:VEVENT
CLASS:PUBLIC
DTEND:20200224T141000
DTSTAMP:20260419T174759Z
DTSTART:20200224T140000
LOCATION:Kalala Room
ORGANIZER:
SEQUENCE:0
SUMMARY:Monday\, 24 February 2020
UID:4b410c1d-9cef-4825-9f9c-5536baea9de4
BEGIN:VALARM
ACTION:DISPLAY
DESCRIPTION:REMINDER : Monday\, 24 February 2020
TRIGGER:-PT15M
END:VALARM
END:VEVENT
BEGIN:VEVENT
CLASS:PUBLIC
DTEND:20200224T145000
DTSTAMP:20260419T174759Z
DTSTART:20200224T141000
LOCATION:Kalala Room
ORGANIZER:
SEQUENCE:0
SUMMARY:Monday\, 24 February 2020
UID:7df2c3bb-36b5-497d-8fbc-a9e5588003f1
BEGIN:VALARM
ACTION:DISPLAY
DESCRIPTION:REMINDER : Monday\, 24 February 2020
TRIGGER:-PT15M
END:VALARM
END:VEVENT
BEGIN:VEVENT
CLASS:PUBLIC
DTEND:20200224T160000
DTSTAMP:20260419T174759Z
DTSTART:20200224T145000
LOCATION:Kalala Room
ORGANIZER:
SEQUENCE:0
SUMMARY:Monday\, 24 February 2020
UID:b1dacc15-9c29-4714-8d7b-2eb14f4a2f96
BEGIN:VALARM
ACTION:DISPLAY
DESCRIPTION:REMINDER : Monday\, 24 February 2020
TRIGGER:-PT15M
END:VALARM
END:VEVENT
BEGIN:VEVENT
CLASS:PUBLIC
DTEND:20200224T161500
DTSTAMP:20260419T174759Z
DTSTART:20200224T160000
LOCATION:N/A
ORGANIZER:
SEQUENCE:0
SUMMARY:Monday\, 24 February 2020
UID:70c4b739-f12e-4b39-b854-c0c607d9f79d
BEGIN:VALARM
ACTION:DISPLAY
DESCRIPTION:REMINDER : Monday\, 24 February 2020
TRIGGER:-PT15M
END:VALARM
END:VEVENT
BEGIN:VEVENT
CLASS:PUBLIC
DTEND:20200224T180000
DTSTAMP:20260419T174759Z
DTSTART:20200224T160000
LOCATION:Plenary Room\, Bowling Green
ORGANIZER:
SEQUENCE:0
SUMMARY:Monday\, 24 February 2020
UID:8a6915b5-cf24-4363-a6bb-dcf74c737d7d
BEGIN:VALARM
ACTION:DISPLAY
DESCRIPTION:REMINDER : Monday\, 24 February 2020
TRIGGER:-PT15M
END:VALARM
END:VEVENT
BEGIN:VEVENT
CLASS:PUBLIC
DTEND:20200224T172500
DTSTAMP:20260419T174759Z
DTSTART:20200224T161500
LOCATION:N/A
ORGANIZER:
SEQUENCE:0
SUMMARY:Monday\, 24 February 2020
UID:eaaab82e-d901-4c09-980e-1569fa22cbaf
BEGIN:VALARM
ACTION:DISPLAY
DESCRIPTION:REMINDER : Monday\, 24 February 2020
TRIGGER:-PT15M
END:VALARM
END:VEVENT
BEGIN:VEVENT
CLASS:PUBLIC
DTEND:20200224T175500
DTSTAMP:20260419T174759Z
DTSTART:20200224T172500
LOCATION:Kalala Room
ORGANIZER:
SEQUENCE:0
SUMMARY:Monday\, 24 February 2020
UID:e8173065-e8e4-4f90-a099-b1a714c47536
BEGIN:VALARM
ACTION:DISPLAY
DESCRIPTION:REMINDER : Monday\, 24 February 2020
TRIGGER:-PT15M
END:VALARM
END:VEVENT
BEGIN:VEVENT
CLASS:PUBLIC
DTEND:20200224T181500
DTSTAMP:20260419T174759Z
DTSTART:20200224T175500
LOCATION:Kalala Room
ORGANIZER:
SEQUENCE:0
SUMMARY:Monday\, 24 February 2020
UID:50dada30-6983-4fe5-ae8e-c173d7e5b190
BEGIN:VALARM
ACTION:DISPLAY
DESCRIPTION:REMINDER : Monday\, 24 February 2020
TRIGGER:-PT15M
END:VALARM
END:VEVENT
BEGIN:VEVENT
CLASS:PUBLIC
DTEND:20200224T183000
DTSTAMP:20260419T174759Z
DTSTART:20200224T181500
LOCATION:Kalala Room
ORGANIZER:
SEQUENCE:0
SUMMARY:Monday\, 24 February 2020
UID:78bcc098-5919-4e6d-a5a4-39c61ab27da4
BEGIN:VALARM
ACTION:DISPLAY
DESCRIPTION:REMINDER : Monday\, 24 February 2020
TRIGGER:-PT15M
END:VALARM
END:VEVENT
END:VCALENDAR
